BEGIN:VCALENDAR
VERSION:2.0
PRODID:Events Booking
BEGIN:VEVENT
UID:69e74d9cb638e
SUMMARY:Gasbetriebene Brandsimulationsanlage (BSA)
DESCRIPTION:
LOCATION:Müller-Hahl-Straße 10\, 86928 Hofstetten\, Deutschland
DTSTART:20170525T220000Z
DTEND:20170526T220000Z
DTSTAMP:20260421T101244Z
ORGANIZER;CN=Kreisfeuerwehrverband Landsberg:MAILTO:anmeldung@kfv-landsberg
 .net
GEO:48.006324;10.967984
X-APPLE-STRUCTURED-LOCATION;VALUE=URI;X-ADDRESS=Müller-Hahl-Straße 10\, 8
 6928 Hofstetten\, Deutschland;X-APPLE-RADIUS=72;X-TITLE=Feuerwehr Hofstett
 en:48.006324;10.967984
END:VEVENT
END:VCALENDAR