BEGIN:VCALENDAR
VERSION:2.0
PRODID:Events Booking
BEGIN:VEVENT
UID:69e5ebc29171a
SUMMARY:\"Abgesagt\" Forbildungsseminar - Einsatztaktik 24/01
DESCRIPTION:Teilnahmevoraussetzung: Gruppenführer - Pro FFW 2 Teilnehmer

  Achtung:!!&nbsp\; Lehrgang abgesagt wegen zu geringer Teilnehmerzahl !!
LOCATION:Feuerwehrausbildungszentrum\, 1\, Reischer Straße\, Pürgen\, Lan
 dkreis Landsberg am Lech\, Bayern\, 86932\, Deutschland
DTSTART:20241104T230000Z
DTEND:20241115T230000Z
DTSTAMP:20231108T172022Z
ORGANIZER;CN=Kreisfeuerwehrverband Landsberg:MAILTO:anmeldung@kfv-landsberg
 .net
GEO:48.03318;10.91967
X-APPLE-STRUCTURED-LOCATION;VALUE=URI;X-ADDRESS=Feuerwehrausbildungszentrum
 \, 1\, Reischer Straße\, Pürgen\, Landkreis Landsberg am Lech\, Bayern\,
  86932\, Deutschland;X-APPLE-RADIUS=72;X-TITLE=FAZ - Feuerwehr Ausbildungs
 zentrum:48.03318;10.91967
END:VEVENT
END:VCALENDAR