BEGIN:VCALENDAR
VERSION:2.0
PRODID:Events Booking
BEGIN:VEVENT
UID:69e5eb4b1ddfa
SUMMARY:Feuerwehrführerschein 24/01
DESCRIPTION:
LOCATION:1 a\, Breslauer Straße\, Landsberg am Lech\, Landkreis Landsberg 
 am Lech\, Bayern\, 86899\, Deutschland
DTSTART:20240318T230000Z
DTEND:20240318T230000Z
DTSTAMP:20231023T144859Z
ORGANIZER;CN=Kreisfeuerwehrverband Landsberg:MAILTO:anmeldung@kfv-landsberg
 .net
GEO:48.042778;10.862635
X-APPLE-STRUCTURED-LOCATION;VALUE=URI;X-ADDRESS=1 a\, Breslauer Straße\, L
 andsberg am Lech\, Landkreis Landsberg am Lech\, Bayern\, 86899\, Deutschl
 and;X-APPLE-RADIUS=72;X-TITLE=Fahrschule Mayr:48.042778;10.862635
END:VEVENT
END:VCALENDAR