BEGIN:VCALENDAR
VERSION:2.0
PRODID:Events Booking
BEGIN:VEVENT
UID:69e8227981f92
SUMMARY:Erstbetreuer PSNV 22/01
DESCRIPTION:Pro Feuerwehr 2 Teilnehmer
LOCATION:Rathausstraße 37\, 86946 Vilgertshofen\, Deutschland
DTSTART:20221014T220000Z
DTEND:20221014T220000Z
DTSTAMP:20211126T163752Z
ORGANIZER;CN=Kreisfeuerwehrverband Landsberg:MAILTO:anmeldung@kfv-landsberg
 .net
GEO:47.965652;10.913397
X-APPLE-STRUCTURED-LOCATION;VALUE=URI;X-ADDRESS=Rathausstraße 37\, 86946 V
 ilgertshofen\, Deutschland;X-APPLE-RADIUS=72;X-TITLE= Feuerwehr Pflugdorf-
  Stadl:47.965652;10.913397
END:VEVENT
END:VCALENDAR