BEGIN:VCALENDAR
VERSION:2.0
PRODID:Events Booking
BEGIN:VEVENT
UID:69eb6f4a11aef
SUMMARY:Erstbetreuer-PSNV 21/01
DESCRIPTION:Lehrgangsvoraussetzung: MTA-Basis
LOCATION:Rathausstraße 37\, 86946 Vilgertshofen\, Deutschland
DTSTART:20211015T220000Z
DTEND:20211015T220000Z
DTSTAMP:20260424T132530Z
ORGANIZER;CN=Kreisfeuerwehrverband Landsberg:MAILTO:anmeldung@kfv-landsberg
 .net
GEO:47.965652;10.913397
X-APPLE-STRUCTURED-LOCATION;VALUE=URI;X-ADDRESS=Rathausstraße 37\, 86946 V
 ilgertshofen\, Deutschland;X-APPLE-RADIUS=72;X-TITLE= Feuerwehr Pflugdorf-
  Stadl:47.965652;10.913397
END:VEVENT
END:VCALENDAR