BEGIN:VCALENDAR
VERSION:2.0
PRODID:Events Booking
BEGIN:VEVENT
UID:69e7a772df8b0
SUMMARY:E-Mobilität – Qualifizierung von Rettungskräften
DESCRIPTION:In Zusammenarbeit mit&nbsp\;Q4Flo bieten wir eine Fortbildungsr
 eihe Elektromobilität an.
 Sie ist in zwei Theorieblöcke und einen Prax
 isteil aufgebaut.
 Für die Theorieteile stehen 40 Plätze zur Verfügung
 .
 Für die Praxis 26 Plätze zur Verfügung.
 Der Besuch des Praxis Tei
 ls ist nur mit Teilnahme an den Theorie Teilen möglich!
LOCATION:Feuerwehrausbildungszentrum\, 1\, Reischer Straße\, Pürgen\, Lan
 dkreis Landsberg am Lech\, Bayern\, 86932\, Deutschland
DTSTART:20230425T160000Z
DTEND:20230922T220000Z
DTSTAMP:20230113T180325Z
ORGANIZER;CN=Kreisfeuerwehrverband Landsberg:MAILTO:anmeldung@kfv-landsberg
 .net
GEO:48.03318;10.91967
X-APPLE-STRUCTURED-LOCATION;VALUE=URI;X-ADDRESS=Feuerwehrausbildungszentrum
 \, 1\, Reischer Straße\, Pürgen\, Landkreis Landsberg am Lech\, Bayern\,
  86932\, Deutschland;X-APPLE-RADIUS=72;X-TITLE=FAZ - Feuerwehr Ausbildungs
 zentrum:48.03318;10.91967
END:VEVENT
END:VCALENDAR