BEGIN:VCALENDAR
VERSION:2.0
PRODID:Events Booking
BEGIN:VEVENT
UID:69e738ffec7d5
SUMMARY:CSA - Lehrgang 20/1
DESCRIPTION:Lehrgangvorraussetzung: Atemschutzlehrgang + Gültige G-26/3
LOCATION:Saarburgstraße 2\, 86899 Landsberg am Lech\, Deutschland
DTSTART:20200307T070000Z
DTEND:20200307T150000Z
DTSTAMP:20260421T084447Z
ORGANIZER;CN=Kreisfeuerwehrverband Landsberg:MAILTO:anmeldung@kfv-landsberg
 .net
GEO:48.04225;10.86754
X-APPLE-STRUCTURED-LOCATION;VALUE=URI;X-ADDRESS=Saarburgstraße 2\, 86899 L
 andsberg am Lech\, Deutschland;X-APPLE-RADIUS=72;X-TITLE=Feuerwehr Landsbe
 rg:48.04225;10.86754
END:VEVENT
END:VCALENDAR