BEGIN:VCALENDAR
VERSION:2.0
PRODID:Events Booking
BEGIN:VEVENT
UID:69e77b99efd90
SUMMARY:Brandübungscontainer - Holzbefeuert - 2020
DESCRIPTION:
LOCATION:Westerschondorfer Str. 98\, 86928 Hofstetten\, Deutschland
DTSTART:20200715T070000Z
DTEND:20200818T120000Z
DTSTAMP:20260421T132857Z
ORGANIZER;CN=Kreisfeuerwehrverband Landsberg:MAILTO:anmeldung@kfv-landsberg
 .net
GEO:48.028424;10.972525
X-APPLE-STRUCTURED-LOCATION;VALUE=URI;X-ADDRESS=Westerschondorfer Str. 98\,
  86928 Hofstetten\, Deutschland;X-APPLE-RADIUS=72;X-TITLE=AWZ Hofstetten:4
 8.028424;10.972525
END:VEVENT
END:VCALENDAR