BEGIN:VCALENDAR
VERSION:2.0
PRODID:Events Booking
BEGIN:VEVENT
UID:69e73cfc74a91
SUMMARY:Brandübungscontainer holzbefeuert 08.11. Abend
DESCRIPTION:
LOCATION:Westerschondorfer Str. 98\, 86928 Hofstetten\, Deutschland
DTSTART:20181108T170000Z
DTSTAMP:20260421T090148Z
ORGANIZER;CN=Kreisfeuerwehrverband Landsberg:MAILTO:anmeldung@kfv-landsberg
 .net
GEO:48.028424;10.972525
X-APPLE-STRUCTURED-LOCATION;VALUE=URI;X-ADDRESS=Westerschondorfer Str. 98\,
  86928 Hofstetten\, Deutschland;X-APPLE-RADIUS=72;X-TITLE=AWZ Hofstetten:4
 8.028424;10.972525
END:VEVENT
END:VCALENDAR