BEGIN:VCALENDAR
VERSION:2.0
PRODID:Events Booking
BEGIN:VEVENT
UID:69e76477bc4b9
SUMMARY:Atemschutzgeräteträger Utting Herbst
DESCRIPTION:
LOCATION:Maria-Theresia-Straße 12A\, 86919 Utting am Ammersee\, Deutschlan
 d
DTSTART:20190917T170000Z
DTEND:20191004T220000Z
DTSTAMP:20260421T115015Z
ORGANIZER;CN=Kreisfeuerwehrverband Landsberg:MAILTO:anmeldung@kfv-landsberg
 .net
GEO:48.02382;11.09267
X-APPLE-STRUCTURED-LOCATION;VALUE=URI;X-ADDRESS=Maria-Theresia-Straße 12A\
 , 86919 Utting am Ammersee\, Deutschland;X-APPLE-RADIUS=72;X-TITLE=Feuerwe
 hr Utting:48.02382;11.09267
END:VEVENT
END:VCALENDAR