BEGIN:VCALENDAR
VERSION:2.0
PRODID:Events Booking
BEGIN:VEVENT
UID:69e73b739916a
SUMMARY:Atemschutzgeräteträger 22/01 Utting am Ammersee
DESCRIPTION:Pro Feuerwehr 2 Teilnehmer
LOCATION:Maria-Theresia-Straße 12A\, 86919 Utting am Ammersee\, Deutschlan
 d
DTSTART:20220321T230000Z
DTEND:20220406T220000Z
DTSTAMP:20211126T154359Z
ORGANIZER;CN=Kreisfeuerwehrverband Landsberg:MAILTO:anmeldung@kfv-landsberg
 .net
GEO:48.02382;11.09267
X-APPLE-STRUCTURED-LOCATION;VALUE=URI;X-ADDRESS=Maria-Theresia-Straße 12A\
 , 86919 Utting am Ammersee\, Deutschland;X-APPLE-RADIUS=72;X-TITLE=Feuerwe
 hr Utting:48.02382;11.09267
END:VEVENT
END:VCALENDAR