BEGIN:VCALENDAR
VERSION:2.0
PRODID:Events Booking
BEGIN:VEVENT
UID:69e74fb260871
SUMMARY: Atemschutzgeräteträger 21/02  (2)
DESCRIPTION:&nbsp\;Wiederholungs - Lehrgang&nbsp\;
 &nbsp\;
 
 Ausbildun
 gsdauer 34 Stunden in einem Wochenkurs.
 Lehrgangsvoraussetzung: Eine gü
 ltige G26.3 Untersuchung sowie eine Kopie des MTA- Abschlusses muss mit de
 r Anmeldung vorgelegt werden.
DTSTART:20210718T220000Z
DTEND:20210805T220000Z
DTSTAMP:20260421T102138Z
ORGANIZER;CN=Kreisfeuerwehrverband Landsberg:MAILTO:anmeldung@kfv-landsberg
 .net
END:VEVENT
END:VCALENDAR