BEGIN:VCALENDAR
VERSION:2.0
PRODID:Events Booking
BEGIN:VEVENT
UID:69e7a609a3c09
SUMMARY:Atemschutzgeräteträger 21/01
DESCRIPTION:Ausbildungsdauer 34 Stunden in einem Wochenkurs.
 Lehrgangsvor
 aussetzung: Eine gültige G26.3 Untersuchung sowie eine Kopie des MTA -Abs
 chlusses muss mit der Anmeldung vorgelegt werden.
DTSTART:20210503T060000Z
DTEND:20210507T160000Z
DTSTAMP:20260421T163001Z
ORGANIZER;CN=Kreisfeuerwehrverband Landsberg:MAILTO:anmeldung@kfv-landsberg
 .net
END:VEVENT
END:VCALENDAR